BEGIN:VCALENDAR
VERSION:2.0
PRODID:-//Silver Sage Porsche Club - ECPv6.15.20//NONSGML v1.0//EN
CALSCALE:GREGORIAN
METHOD:PUBLISH
X-WR-CALNAME:Silver Sage Porsche Club
X-ORIGINAL-URL:https://silversageporsche.com
X-WR-CALDESC:Events for Silver Sage Porsche Club
REFRESH-INTERVAL;VALUE=DURATION:PT1H
X-Robots-Tag:noindex
X-PUBLISHED-TTL:PT1H
BEGIN:VTIMEZONE
TZID:America/Boise
BEGIN:DAYLIGHT
TZOFFSETFROM:-0700
TZOFFSETTO:-0600
TZNAME:MDT
DTSTART:20240310T090000
END:DAYLIGHT
BEGIN:STANDARD
TZOFFSETFROM:-0600
TZOFFSETTO:-0700
TZNAME:MST
DTSTART:20241103T080000
END:STANDARD
BEGIN:DAYLIGHT
TZOFFSETFROM:-0700
TZOFFSETTO:-0600
TZNAME:MDT
DTSTART:20250309T090000
END:DAYLIGHT
BEGIN:STANDARD
TZOFFSETFROM:-0600
TZOFFSETTO:-0700
TZNAME:MST
DTSTART:20251102T080000
END:STANDARD
BEGIN:DAYLIGHT
TZOFFSETFROM:-0700
TZOFFSETTO:-0600
TZNAME:MDT
DTSTART:20260308T090000
END:DAYLIGHT
BEGIN:STANDARD
TZOFFSETFROM:-0600
TZOFFSETTO:-0700
TZNAME:MST
DTSTART:20261101T080000
END:STANDARD
END:VTIMEZONE
BEGIN:VEVENT
DTSTART;TZID=America/Boise:20250602T180000
DTEND;TZID=America/Boise:20250606T180000
DTSTAMP:20260419T195358
CREATED:20250219T040204Z
LAST-MODIFIED:20250316T203116Z
UID:4765-1748887200-1749232800@silversageporsche.com
SUMMARY:Selkirk Loop (Zone 6 Multi Region) Tour - INWR Inaugural Drive
DESCRIPTION:Embark on the Ultimate Porsche Road Trip Adventure: The Selkirk Loop 2025 Zone 6 Multi-Region Tour \n\n\n\nAre you ready for an exhilarating journey through some of the most scenic routes and breathtaking landscapes in the Pacific Northwest? Join us for an unforgettable week-long Porsche Tour of the Selkirk Loop\, where luxury meets the open road \n\n\n\n\nDay 1: Coeur d’Alene\, ID – Kick off your adventure with a serene boat cruise while enjoying appetizers and traveling across stunning Lake Coeur d’Alene. Spend the night at the Coeur d’Alene Resort\, setting the tone for a week of luxury and excitement.\n\n\n\nDay 2: Creston\, BC – Rev up your engines and drive through the beautiful North Idaho and Western Montana region\, arriving in the charming town of Creston\, BC. Experience the local culture\, taste the famous cherries\, and enjoy the quaint hospitality of this hidden gem.\n\n\n\nDay 3: Nelson\, BC – Navigate through the winding roads alongside Kootenai Lake to the historic and vibrant city of Nelson\, BC. Check into the luxurious Prestige Inn Lakeside Resort\, where comfort awaits after a day of scenic drives and mountain views.\n\n\n\nDay 4: Nelson\, BC – Take the day at your own pace to explore Nelson’s rich arts scene\, historic buildings\, and natural beauty. Whether you’re hiking\, shopping\, or just soaking in the local vibe\, your day culminates with a celebratory group dinner at the Prestige Inn Lakeside Resort\, sharing stories of the road.\n\n\n\nDay 5: The Drive to Spokane\, WA – Conclude your journey with a scenic drive back to the vibrant city of Spokane\, WA. Your final destination is the highly regarded Davenport Grand. Check in before heading over to the Festival of Speed car show in downtown Spokane at River Park Square\, where you can showcase your Porsche with other automotive enthusiasts\, celebrate speed\, and share the camaraderie of the road while enjoying the parade of race cars as they make their way from Qlispè Raceway.\n\n\n\nDay 6: (Optional) Festival of Speed Car Corral in the paddock at Qlispè Raceway. Join us at the Festival of Speed in Airway Heights for an unforgettable experience! Showcase your ride in the Porsche Car Corral\, while taking in the sights and sounds of the vintage race cars. During lunch you will have the chance to take a parade lap around racetrack.\n\n\n\n\nMore Information
URL:https://silversageporsche.com/event/inwr-inaugural-drive/
LOCATION:Coeur d’alene Resort\, 115 S 2nd St\, Coeur d'Alene\, Idaho\, 83814\, United States
END:VEVENT
END:VCALENDAR