BEGIN:VCALENDAR
VERSION:2.0
PRODID:-//Silver Sage Porsche Club - ECPv6.15.20//NONSGML v1.0//EN
CALSCALE:GREGORIAN
METHOD:PUBLISH
X-ORIGINAL-URL:https://silversageporsche.com
X-WR-CALDESC:Events for Silver Sage Porsche Club
REFRESH-INTERVAL;VALUE=DURATION:PT1H
X-Robots-Tag:noindex
X-PUBLISHED-TTL:PT1H
BEGIN:VTIMEZONE
TZID:America/Boise
BEGIN:DAYLIGHT
TZOFFSETFROM:-0700
TZOFFSETTO:-0600
TZNAME:MDT
DTSTART:20250309T090000
END:DAYLIGHT
BEGIN:STANDARD
TZOFFSETFROM:-0600
TZOFFSETTO:-0700
TZNAME:MST
DTSTART:20251102T080000
END:STANDARD
BEGIN:DAYLIGHT
TZOFFSETFROM:-0700
TZOFFSETTO:-0600
TZNAME:MDT
DTSTART:20260308T090000
END:DAYLIGHT
BEGIN:STANDARD
TZOFFSETFROM:-0600
TZOFFSETTO:-0700
TZNAME:MST
DTSTART:20261101T080000
END:STANDARD
BEGIN:DAYLIGHT
TZOFFSETFROM:-0700
TZOFFSETTO:-0600
TZNAME:MDT
DTSTART:20270314T090000
END:DAYLIGHT
BEGIN:STANDARD
TZOFFSETFROM:-0600
TZOFFSETTO:-0700
TZNAME:MST
DTSTART:20271107T080000
END:STANDARD
END:VTIMEZONE
BEGIN:VEVENT
DTSTART;TZID=America/Boise:20260404T080000
DTEND;TZID=America/Boise:20260404T120000
DTSTAMP:20260419T072159
CREATED:20251117T042918Z
LAST-MODIFIED:20260315T050414Z
UID:5685-1775289600-1775304000@silversageporsche.com
SUMMARY:Coffee and Porsches
DESCRIPTION:Mark your calendar for the 1st Saturday of each month\, April through October\, for amorning tour. Meet at Porsche of Boise\, 7607 W. Gratz Drive\, Boise (map)\, at 8:00 a.m.for coffee and snacks. There will be a brief drivers meeting and cars depart at 8:30 fora tour which typically returns to Boise by noon (so you can get your Saturday choresdone in the afternoon!).For 2026\, there’s a 35 car limit – registration is required. \n\n\n\nIf you have access to an FRS/GMRS 2-way radio you can bring\, please do and set tochannel “5.1” or “5.01” to stay in the communications loop during the drive. If youdon’t have a radio you will still enjoy the drive.If you are bring along someone under the age of 18\, please print and fill out this formahead of time and bring it with you (one per minor). This will be save you time Saturdaymorning.
URL:https://silversageporsche.com/event/coffee-and-porsches/
LOCATION:Porsche Boise\, 7607 W. Gratz Dr\, Boise\, ID\, 83716\, United States
ORGANIZER;CN="Bob Kunz":MAILTO:autocross@silversageporsche.com
END:VEVENT
END:VCALENDAR