BEGIN:VCALENDAR
VERSION:2.0
PRODID:-//Silver Sage Porsche Club - ECPv6.15.20//NONSGML v1.0//EN
CALSCALE:GREGORIAN
METHOD:PUBLISH
X-ORIGINAL-URL:https://silversageporsche.com
X-WR-CALDESC:Events for Silver Sage Porsche Club
REFRESH-INTERVAL;VALUE=DURATION:PT1H
X-Robots-Tag:noindex
X-PUBLISHED-TTL:PT1H
BEGIN:VTIMEZONE
TZID:America/Boise
BEGIN:DAYLIGHT
TZOFFSETFROM:-0700
TZOFFSETTO:-0600
TZNAME:MDT
DTSTART:20250309T090000
END:DAYLIGHT
BEGIN:STANDARD
TZOFFSETFROM:-0600
TZOFFSETTO:-0700
TZNAME:MST
DTSTART:20251102T080000
END:STANDARD
BEGIN:DAYLIGHT
TZOFFSETFROM:-0700
TZOFFSETTO:-0600
TZNAME:MDT
DTSTART:20260308T090000
END:DAYLIGHT
BEGIN:STANDARD
TZOFFSETFROM:-0600
TZOFFSETTO:-0700
TZNAME:MST
DTSTART:20261101T080000
END:STANDARD
BEGIN:DAYLIGHT
TZOFFSETFROM:-0700
TZOFFSETTO:-0600
TZNAME:MDT
DTSTART:20270314T090000
END:DAYLIGHT
BEGIN:STANDARD
TZOFFSETFROM:-0600
TZOFFSETTO:-0700
TZNAME:MST
DTSTART:20271107T080000
END:STANDARD
END:VTIMEZONE
BEGIN:VEVENT
DTSTART;TZID=America/Boise:20260416T170000
DTEND;TZID=America/Boise:20260416T190000
DTSTAMP:20260419T085341
CREATED:20251202T070847Z
LAST-MODIFIED:20260315T042047Z
UID:5756-1776358800-1776366000@silversageporsche.com
SUMMARY:Operation Dinner Out - Ling & Louie’s Asian Bar and Grill ** GARDEN CITY location**
DESCRIPTION:Come join fellow members for this dinner social at Ling & Louie’s in Garden City.
URL:https://silversageporsche.com/event/operation-dinner-out-10/
LOCATION:Ling & Louie’s Asian Bar and Grill\, 2288 N Garden St\, Garden City\, Idaho\, 83714
ORGANIZER;CN="Gretchen Young":MAILTO:odo@silversageporsche.com
END:VEVENT
END:VCALENDAR