BEGIN:VCALENDAR
VERSION:2.0
PRODID:-//Silver Sage Porsche Club - ECPv6.15.20//NONSGML v1.0//EN
CALSCALE:GREGORIAN
METHOD:PUBLISH
X-WR-CALNAME:Silver Sage Porsche Club
X-ORIGINAL-URL:https://silversageporsche.com
X-WR-CALDESC:Events for Silver Sage Porsche Club
REFRESH-INTERVAL;VALUE=DURATION:PT1H
X-Robots-Tag:noindex
X-PUBLISHED-TTL:PT1H
BEGIN:VTIMEZONE
TZID:America/Boise
BEGIN:DAYLIGHT
TZOFFSETFROM:-0700
TZOFFSETTO:-0600
TZNAME:MDT
DTSTART:20250309T090000
END:DAYLIGHT
BEGIN:STANDARD
TZOFFSETFROM:-0600
TZOFFSETTO:-0700
TZNAME:MST
DTSTART:20251102T080000
END:STANDARD
BEGIN:DAYLIGHT
TZOFFSETFROM:-0700
TZOFFSETTO:-0600
TZNAME:MDT
DTSTART:20260308T090000
END:DAYLIGHT
BEGIN:STANDARD
TZOFFSETFROM:-0600
TZOFFSETTO:-0700
TZNAME:MST
DTSTART:20261101T080000
END:STANDARD
BEGIN:DAYLIGHT
TZOFFSETFROM:-0700
TZOFFSETTO:-0600
TZNAME:MDT
DTSTART:20270314T090000
END:DAYLIGHT
BEGIN:STANDARD
TZOFFSETFROM:-0600
TZOFFSETTO:-0700
TZNAME:MST
DTSTART:20271107T080000
END:STANDARD
END:VTIMEZONE
BEGIN:VEVENT
DTSTART;TZID=America/Boise:20260806T080000
DTEND;TZID=America/Boise:20260806T170000
DTSTAMP:20260419T145344
CREATED:20251202T070658Z
LAST-MODIFIED:20251202T070658Z
UID:5752-1786003200-1786035600@silversageporsche.com
SUMMARY:Operation Dinner Out
DESCRIPTION:Details to come.
URL:https://silversageporsche.com/event/operation-dinner-out-9/
LOCATION:Idaho
END:VEVENT
BEGIN:VEVENT
DTSTART;TZID=America/Boise:20260806T170000
DTEND;TZID=America/Boise:20260806T190000
DTSTAMP:20260419T145344
CREATED:20260205T010117Z
LAST-MODIFIED:20260302T025452Z
UID:5889-1786035600-1786042800@silversageporsche.com
SUMMARY:Operation Dinner Out - Tupelo Honey Southern Kitchen
DESCRIPTION:Space is limited. Direct access to restaurant on 2nd floor from the 2nd floor of the parking garage at Capital and Main. Social dinner outside on patio. \n\n\n\nRegistration coming soon.
URL:https://silversageporsche.com/event/operation-dinner-out-tupelo-honey-southern-kitchen/
LOCATION:Tupelo Honey Southern Kitchen\, 150 N. 8th St. Suite 200\, Boise\, Idaho\, 83702
ORGANIZER;CN="Gretchen Young":MAILTO:odo@silversageporsche.com
END:VEVENT
END:VCALENDAR