BEGIN:VCALENDAR
VERSION:2.0
PRODID:-//Silver Sage Porsche Club - ECPv6.15.20//NONSGML v1.0//EN
CALSCALE:GREGORIAN
METHOD:PUBLISH
X-WR-CALNAME:Silver Sage Porsche Club
X-ORIGINAL-URL:https://silversageporsche.com
X-WR-CALDESC:Events for Silver Sage Porsche Club
REFRESH-INTERVAL;VALUE=DURATION:PT1H
X-Robots-Tag:noindex
X-PUBLISHED-TTL:PT1H
BEGIN:VTIMEZONE
TZID:America/Boise
BEGIN:DAYLIGHT
TZOFFSETFROM:-0700
TZOFFSETTO:-0600
TZNAME:MDT
DTSTART:20250309T090000
END:DAYLIGHT
BEGIN:STANDARD
TZOFFSETFROM:-0600
TZOFFSETTO:-0700
TZNAME:MST
DTSTART:20251102T080000
END:STANDARD
BEGIN:DAYLIGHT
TZOFFSETFROM:-0700
TZOFFSETTO:-0600
TZNAME:MDT
DTSTART:20260308T090000
END:DAYLIGHT
BEGIN:STANDARD
TZOFFSETFROM:-0600
TZOFFSETTO:-0700
TZNAME:MST
DTSTART:20261101T080000
END:STANDARD
BEGIN:DAYLIGHT
TZOFFSETFROM:-0700
TZOFFSETTO:-0600
TZNAME:MDT
DTSTART:20270314T090000
END:DAYLIGHT
BEGIN:STANDARD
TZOFFSETFROM:-0600
TZOFFSETTO:-0700
TZNAME:MST
DTSTART:20271107T080000
END:STANDARD
END:VTIMEZONE
BEGIN:VEVENT
DTSTART;TZID=America/Boise:20260910T170000
DTEND;TZID=America/Boise:20260910T210000
DTSTAMP:20260419T164203
CREATED:20251202T070606Z
LAST-MODIFIED:20260205T011249Z
UID:5750-1789059600-1789074000@silversageporsche.com
SUMMARY:Operation Dinner Out - Andrade’s Restaurante Mexicano
DESCRIPTION:Sign up on Eventbrite\, space is limited \n\n\n\nRegistration coming soon.
URL:https://silversageporsche.com/event/operation-dinner-out-8/
LOCATION:Andrade’s Restaurante Mexicano\, 4620 W. Overland Rd.\, Boise\, Idaho\, 83705
ORGANIZER;CN="Lisa Soito":MAILTO:odo@silversageporsche.com
END:VEVENT
END:VCALENDAR