BEGIN:VCALENDAR
VERSION:2.0
PRODID:-//Silver Sage Porsche Club - ECPv6.15.20//NONSGML v1.0//EN
CALSCALE:GREGORIAN
METHOD:PUBLISH
X-WR-CALNAME:Silver Sage Porsche Club
X-ORIGINAL-URL:https://silversageporsche.com
X-WR-CALDESC:Events for Silver Sage Porsche Club
REFRESH-INTERVAL;VALUE=DURATION:PT1H
X-Robots-Tag:noindex
X-PUBLISHED-TTL:PT1H
BEGIN:VTIMEZONE
TZID:America/Boise
BEGIN:DAYLIGHT
TZOFFSETFROM:-0700
TZOFFSETTO:-0600
TZNAME:MDT
DTSTART:20250309T090000
END:DAYLIGHT
BEGIN:STANDARD
TZOFFSETFROM:-0600
TZOFFSETTO:-0700
TZNAME:MST
DTSTART:20251102T080000
END:STANDARD
BEGIN:DAYLIGHT
TZOFFSETFROM:-0700
TZOFFSETTO:-0600
TZNAME:MDT
DTSTART:20260308T090000
END:DAYLIGHT
BEGIN:STANDARD
TZOFFSETFROM:-0600
TZOFFSETTO:-0700
TZNAME:MST
DTSTART:20261101T080000
END:STANDARD
BEGIN:DAYLIGHT
TZOFFSETFROM:-0700
TZOFFSETTO:-0600
TZNAME:MDT
DTSTART:20270314T090000
END:DAYLIGHT
BEGIN:STANDARD
TZOFFSETFROM:-0600
TZOFFSETTO:-0700
TZNAME:MST
DTSTART:20271107T080000
END:STANDARD
END:VTIMEZONE
BEGIN:VEVENT
DTSTART;TZID=America/Boise:20260912T130000
DTEND;TZID=America/Boise:20260912T170000
DTSTAMP:20260419T165211
CREATED:20251117T051640Z
LAST-MODIFIED:20251117T051640Z
UID:5725-1789218000-1789232400@silversageporsche.com
SUMMARY:Adopt-A-Highway
DESCRIPTION:Date TBD. \n\n\n\nAt Silver Sage Porsche Club\, we believe in horsepower with a purpose. For nearly 60 years\,we’ve revved up not just our engines but our commitment to the community—raising over$300\,000 for local causes. Now\, it’s time to roll up our sleeves\, grab some gloves\, and hit theroad for our next big impact: the Silver Sage Adopt-a-Highway Cleanup! \n\n\n\nJoin us as we take on a stretch of Highway 55 near Boise to keep our region’s roads as pristine as our Porsches. This family-friendly event is your chance to: \n\n\n\n\nShowcase Our Spirit: Let every passing car see Porsche owners giving back in style.\n\n\n\nMake a Difference: Help beautify southern Idaho\, one mile at a time.\n\n\n\nBond with Fellow Enthusiasts: Enjoy a morning outdoors with the Silver Sage crew\n\n\n\nWhat to Bring: Enthusiasm!\, boots\, and gloves. We’ll provide vests\, and cleanup gear.\n\n\n\n\nIt’s low-key\, high-impact\, and quintessentially Silver Sage. \n\n\n\nRSVP to Kevin MitchellSpots are limited\, so don’t wait!Drive the passion. Serve the community. See you there!
URL:https://silversageporsche.com/event/adopt-a-highway-3/
LOCATION:Horseshoe Bend City Park\, 112 Ada St.\, Horseshoe Bend\, Idaho\, 83629
ORGANIZER;CN="Kevin Mitchell":MAILTO:VicePresident@silversageporsche.com
END:VEVENT
END:VCALENDAR