BEGIN:VCALENDAR
VERSION:2.0
PRODID:-//Silver Sage Porsche Club - ECPv6.15.20//NONSGML v1.0//EN
CALSCALE:GREGORIAN
METHOD:PUBLISH
X-WR-CALNAME:Silver Sage Porsche Club
X-ORIGINAL-URL:https://silversageporsche.com
X-WR-CALDESC:Events for Silver Sage Porsche Club
REFRESH-INTERVAL;VALUE=DURATION:PT1H
X-Robots-Tag:noindex
X-PUBLISHED-TTL:PT1H
BEGIN:VTIMEZONE
TZID:America/Boise
BEGIN:DAYLIGHT
TZOFFSETFROM:-0700
TZOFFSETTO:-0600
TZNAME:MDT
DTSTART:20250309T090000
END:DAYLIGHT
BEGIN:STANDARD
TZOFFSETFROM:-0600
TZOFFSETTO:-0700
TZNAME:MST
DTSTART:20251102T080000
END:STANDARD
BEGIN:DAYLIGHT
TZOFFSETFROM:-0700
TZOFFSETTO:-0600
TZNAME:MDT
DTSTART:20260308T090000
END:DAYLIGHT
BEGIN:STANDARD
TZOFFSETFROM:-0600
TZOFFSETTO:-0700
TZNAME:MST
DTSTART:20261101T080000
END:STANDARD
BEGIN:DAYLIGHT
TZOFFSETFROM:-0700
TZOFFSETTO:-0600
TZNAME:MDT
DTSTART:20270314T090000
END:DAYLIGHT
BEGIN:STANDARD
TZOFFSETFROM:-0600
TZOFFSETTO:-0700
TZNAME:MST
DTSTART:20271107T080000
END:STANDARD
END:VTIMEZONE
BEGIN:VEVENT
DTSTART;TZID=America/Boise:20261003T080000
DTEND;TZID=America/Boise:20261003T120000
DTSTAMP:20260419T164153
CREATED:20251117T043656Z
LAST-MODIFIED:20260315T045216Z
UID:5697-1791014400-1791028800@silversageporsche.com
SUMMARY:Oktoberfast Coffee and Porsches
DESCRIPTION:Mark your calendar for the 1st Saturday of each month\, April through October\, for amorning tour. Meet at Porsche of Boise\, 7607 W. Gratz Drive\, Boise (map)\, at 8:00 a.m.for coffee and snacks. There will be a brief drivers meeting and cars depart at 8:30 fora tour which typically returns to Boise by noon (so you can get your Saturday choresdone in the afternoon!).For 2026\, there’s a 35 car limit – registration is required.If you have access to an FRS/GMRS 2-way radio you can bring\, please do and set tochannel “5.1” or “5.01” to stay in the communications loop during the drive. If youdon’t have a radio you will still enjoy the drive.If you are bring along someone under the age of 18\, please print and fill out this formahead of time and bring it with you (one per minor). This will be save you time Saturdaymorning.
URL:https://silversageporsche.com/event/oktoberfast-coffee-and-porsches/
LOCATION:Porsche Boise\, 7607 W. Gratz Dr\, Boise\, ID\, 83716\, United States
ORGANIZER;CN="Bob Kunz":MAILTO:autocross@silversageporsche.com
END:VEVENT
BEGIN:VEVENT
DTSTART;TZID=America/Boise:20261003T090000
DTEND;TZID=America/Boise:20261003T120000
DTSTAMP:20260419T164153
CREATED:20251117T052738Z
LAST-MODIFIED:20260414T031645Z
UID:5732-1791018000-1791028800@silversageporsche.com
SUMMARY:Oktoberfast Wine Tour
DESCRIPTION:Wine tour to support the Silver Sage Region’s charity fund raising campaign. Meeting at Porsche Boise at 9:00 a.m. Local wineries. \n\n\n\nDetails to come.
URL:https://silversageporsche.com/event/oktoberfast-wine-tour/
LOCATION:Idaho
ORGANIZER;CN="Linda Prusynski":MAILTO:lindaprusynski@gmail.com
END:VEVENT
END:VCALENDAR