BEGIN:VCALENDAR
VERSION:2.0
PRODID:-//Silver Sage Porsche Club - ECPv6.15.20//NONSGML v1.0//EN
CALSCALE:GREGORIAN
METHOD:PUBLISH
X-WR-CALNAME:Silver Sage Porsche Club
X-ORIGINAL-URL:https://silversageporsche.com
X-WR-CALDESC:Events for Silver Sage Porsche Club
REFRESH-INTERVAL;VALUE=DURATION:PT1H
X-Robots-Tag:noindex
X-PUBLISHED-TTL:PT1H
BEGIN:VTIMEZONE
TZID:America/Boise
BEGIN:DAYLIGHT
TZOFFSETFROM:-0700
TZOFFSETTO:-0600
TZNAME:MDT
DTSTART:20250309T090000
END:DAYLIGHT
BEGIN:STANDARD
TZOFFSETFROM:-0600
TZOFFSETTO:-0700
TZNAME:MST
DTSTART:20251102T080000
END:STANDARD
BEGIN:DAYLIGHT
TZOFFSETFROM:-0700
TZOFFSETTO:-0600
TZNAME:MDT
DTSTART:20260308T090000
END:DAYLIGHT
BEGIN:STANDARD
TZOFFSETFROM:-0600
TZOFFSETTO:-0700
TZNAME:MST
DTSTART:20261101T080000
END:STANDARD
BEGIN:DAYLIGHT
TZOFFSETFROM:-0700
TZOFFSETTO:-0600
TZNAME:MDT
DTSTART:20270314T090000
END:DAYLIGHT
BEGIN:STANDARD
TZOFFSETFROM:-0600
TZOFFSETTO:-0700
TZNAME:MST
DTSTART:20271107T080000
END:STANDARD
END:VTIMEZONE
BEGIN:VEVENT
DTSTART;TZID=America/Boise:20261004T120000
DTEND;TZID=America/Boise:20261004T160000
DTSTAMP:20260419T213627
CREATED:20251117T053205Z
LAST-MODIFIED:20251117T053206Z
UID:5734-1791115200-1791129600@silversageporsche.com
SUMMARY:Oktoberfast Car Show
DESCRIPTION:The main event of the weekend\, on Sunday\, is the Car Show at The Village at Meridian. The grounds feature European style buildings for restaurants and shops and the internal streets are dedicated to our show (previous year video). All Porsche models are welcome and no\, your car does not have to be “show quality” to enter (daily drivers and grocery-getters are common); just wash it and bring it! Car placement starts at 10:30 am and the show opens at 12:00; you can expect to be heading home by 4:00 pm. Activities for participants include judging their favorite cars\, a poker walk\, shopping and dining. The winner of the People’s Choice voting will be the car featured on Oktoberfast 2027 publications. You can count on trophies for a variety of categories and door prizes.  \n\n\n\nIf you want to participate but will not be showing a car\, use the No Car Show ticket option. \n\n\n\nDetails to come.
URL:https://silversageporsche.com/event/oktoberfast-car-show/
LOCATION:Village At Meridian\, 3597 E. MONARCH SKY LN #225\, Meridian\, 83646\, United States
ORGANIZER;CN="Gary Cuddeford":MAILTO:oktoberfast@silversageporsche.com
END:VEVENT
BEGIN:VEVENT
DTSTART;TZID=America/Boise:20261006T180000
DTEND;TZID=America/Boise:20261006T200000
DTSTAMP:20260419T213627
CREATED:20251117T041703Z
LAST-MODIFIED:20251117T041704Z
UID:5673-1791309600-1791316800@silversageporsche.com
SUMMARY:Board Meeting
DESCRIPTION:The meeting will be held at Porsche Boise\, 7607 W Gratz Dr (map). Appetizers and beverages will be available at 6:00 pm and the meeting will start at 6:30. The meetings are typically completed by 8:00 pm.
URL:https://silversageporsche.com/event/board-meeting-22/
LOCATION:Porsche Boise\, 7607 W. Gratz Dr\, Boise\, ID\, 83716\, United States
END:VEVENT
BEGIN:VEVENT
DTSTART;TZID=America/Boise:20261024T180000
DTEND;TZID=America/Boise:20261024T210000
DTSTAMP:20260419T213627
CREATED:20251117T061935Z
LAST-MODIFIED:20251117T061936Z
UID:5736-1792864800-1792875600@silversageporsche.com
SUMMARY:Charity Dinner Fundraiser
DESCRIPTION:Annual Charity Dinner. Details to come.
URL:https://silversageporsche.com/event/charity-dinner-fundraiser/
LOCATION:Riverside Hotel\, 2900 W Chinden Blvd\, Boise\, Idaho\, 83714
END:VEVENT
BEGIN:VEVENT
DTSTART;TZID=America/Boise:20261103T180000
DTEND;TZID=America/Boise:20261103T200000
DTSTAMP:20260419T213627
CREATED:20251117T041804Z
LAST-MODIFIED:20251117T041805Z
UID:5675-1793728800-1793736000@silversageporsche.com
SUMMARY:Board Meeting
DESCRIPTION:The meeting will be held at Porsche Boise\, 7607 W Gratz Dr (map). Appetizers and beverages will be available at 6:00 pm and the meeting will start at 6:30. The meetings are typically completed by 8:00 pm.
URL:https://silversageporsche.com/event/board-meeting-23/
LOCATION:Porsche Boise\, 7607 W. Gratz Dr\, Boise\, ID\, 83716\, United States
END:VEVENT
BEGIN:VEVENT
DTSTART;TZID=America/Boise:20261128T080000
DTEND;TZID=America/Boise:20261128T170000
DTSTAMP:20260419T213627
CREATED:20251202T070420Z
LAST-MODIFIED:20251202T070421Z
UID:5748-1795852800-1795885200@silversageporsche.com
SUMMARY:Diva Wreath Making Event
DESCRIPTION:Details to come.
URL:https://silversageporsche.com/event/diva-wreath-making-event-2/
LOCATION:Idaho
END:VEVENT
BEGIN:VEVENT
DTSTART;TZID=America/Boise:20261201T180000
DTEND;TZID=America/Boise:20261201T200000
DTSTAMP:20260419T213627
CREATED:20251117T041906Z
LAST-MODIFIED:20251117T041907Z
UID:5677-1796148000-1796155200@silversageporsche.com
SUMMARY:Board Meeting
DESCRIPTION:The meeting will be held at Porsche Boise\, 7607 W Gratz Dr (map). Appetizers and beverages will be available at 6:00 pm and the meeting will start at 6:30. The meetings are typically completed by 8:00 pm.
URL:https://silversageporsche.com/event/board-meeting-24/
LOCATION:Porsche Boise\, 7607 W. Gratz Dr\, Boise\, ID\, 83716\, United States
END:VEVENT
BEGIN:VEVENT
DTSTART;TZID=America/Boise:20261212T180000
DTEND;TZID=America/Boise:20261212T220000
DTSTAMP:20260419T213627
CREATED:20251117T062524Z
LAST-MODIFIED:20251202T065911Z
UID:5740-1797098400-1797112800@silversageporsche.com
SUMMARY:Holiday Party
DESCRIPTION:Celebrate the Season and our club’s 2025 accomplishments. \n\n\n\nDate TBD\, Dec 4th or 5th. Arid Club. Details to come.
URL:https://silversageporsche.com/event/holiday-party-3/
LOCATION:Idaho
ORGANIZER;CN="Linda Prusynski":MAILTO:lindaprusynski@gmail.com
END:VEVENT
END:VCALENDAR