BEGIN:VCALENDAR
VERSION:2.0
PRODID:-//Silver Sage Porsche Club - ECPv6.15.20//NONSGML v1.0//EN
CALSCALE:GREGORIAN
METHOD:PUBLISH
X-WR-CALNAME:Silver Sage Porsche Club
X-ORIGINAL-URL:https://silversageporsche.com
X-WR-CALDESC:Events for Silver Sage Porsche Club
REFRESH-INTERVAL;VALUE=DURATION:PT1H
X-Robots-Tag:noindex
X-PUBLISHED-TTL:PT1H
BEGIN:VTIMEZONE
TZID:America/Boise
BEGIN:DAYLIGHT
TZOFFSETFROM:-0700
TZOFFSETTO:-0600
TZNAME:MDT
DTSTART:20240310T090000
END:DAYLIGHT
BEGIN:STANDARD
TZOFFSETFROM:-0600
TZOFFSETTO:-0700
TZNAME:MST
DTSTART:20241103T080000
END:STANDARD
BEGIN:DAYLIGHT
TZOFFSETFROM:-0700
TZOFFSETTO:-0600
TZNAME:MDT
DTSTART:20250309T090000
END:DAYLIGHT
BEGIN:STANDARD
TZOFFSETFROM:-0600
TZOFFSETTO:-0700
TZNAME:MST
DTSTART:20251102T080000
END:STANDARD
BEGIN:DAYLIGHT
TZOFFSETFROM:-0700
TZOFFSETTO:-0600
TZNAME:MDT
DTSTART:20260308T090000
END:DAYLIGHT
BEGIN:STANDARD
TZOFFSETFROM:-0600
TZOFFSETTO:-0700
TZNAME:MST
DTSTART:20261101T080000
END:STANDARD
END:VTIMEZONE
BEGIN:VEVENT
DTSTART;TZID=America/Boise:20250426T073000
DTEND;TZID=America/Boise:20250427T170000
DTSTAMP:20260419T103342
CREATED:20241218T164231Z
LAST-MODIFIED:20250414T025230Z
UID:4455-1745652600-1745773200@silversageporsche.com
SUMMARY:Spring BrezelCross (Autocross)
DESCRIPTION:Spring BrezelCross\, April 26 & 27\, at Motorplex in Emmett is just two weeks away and we still have some slots open on Saturday and Sunday. This autocross event is “novice friendly”!! All Porsche models are welcome. \n\n\n\nAll Porsches and all experience level drivers are welcome! \n\n\n\nHELLO BREZELCROSS ALUMS & AUTOCROSSERS! (AND IF YOU’VE NEVER AUTOCROSSED- YOU ARE WELCOME TO JOIN US\, INSTRUCTORS WILL BE AVAILABLE!).Join Silver Sage Porsche Club of America for our first BrezelCross of 2025 the weekend of April 27-28 at Motorplex at the Mill in Emmett\, with upgrades.  BrezelCross is refreshingly different than traditional ‘parking lot cone driving’ as the venue is a proper oval with fresh asphalt and infield driving options and relatively few cones.  Thus the unique name\, of German origin of course! \n\n\n\nWhat is BrezelCross?  Autocross with a twist!  What is BrezelCross.pdf \n\n\n\nClick the link for a course preview:  Click HERE to see a BrezelCross lap on the Silver Sage website!   \n\n\n\nComing back this year: \n\n\n\n\nMore timed runs\n\n\n\nLe Mans style grid\n\n\n\nTrack tower timing display\, visible across the entire venue\n\n\n\nALL Porsche models are welcome!  (Note to SCCA drivers\, “Cars must meet SCCA rollover protection criteria”).\n\n\n\nCamping on site\n\n\n\n\nLUNCH each day is provided by Roadhouse at the Mill at the Motorplex and is included in the registration fee as required by Motorplex.  Lunch options are Cobb Salad\, Vegetable Sandwich\, Street Tacos (chicken\, pork\, steak or combo) and Pulled Pork Sandwich. Guests/spectators can purchase Street Tacos a la carte during lunch. \n\n\n\nCAMPERS:  Motorplex allows camping on site for $35 per night.  There is no pre-registration required as there’s lots of room and you can pay with cash or card directly to Motorsports personnel upon arrival.  Note- this is dry camping\, no hookups. \n\n\n\nYou can read all about Autocross and our Driver’s Education (DE) activities by visiting the region website PCA DE link. \n\n\n\nPCA Autocross rules can be found here: PCA AX rules 2025
URL:https://silversageporsche.com/event/brezlecross-1/
LOCATION:Motorplex at the Mill\, 510 W Main St\, Emmett\, Idaho\, 83617\, United States
END:VEVENT
BEGIN:VEVENT
DTSTART;TZID=America/Boise:20250419T080000
DTEND;TZID=America/Boise:20250419T120000
DTSTAMP:20260419T103342
CREATED:20250330T052318Z
LAST-MODIFIED:20250330T055141Z
UID:5020-1745049600-1745064000@silversageporsche.com
SUMMARY:Breakfast Club
DESCRIPTION:A morning drive that ends with breakfast. Limited to 20 cars.
URL:https://silversageporsche.com/event/breakfast-club/
LOCATION:Meet at Starbucks\, 1480 W Chinden Blvd\, Meridian\, 83646
END:VEVENT
END:VCALENDAR