BEGIN:VCALENDAR
VERSION:2.0
PRODID:-//Silver Sage Porsche Club - ECPv6.15.20//NONSGML v1.0//EN
CALSCALE:GREGORIAN
METHOD:PUBLISH
X-WR-CALNAME:Silver Sage Porsche Club
X-ORIGINAL-URL:https://silversageporsche.com
X-WR-CALDESC:Events for Silver Sage Porsche Club
REFRESH-INTERVAL;VALUE=DURATION:PT1H
X-Robots-Tag:noindex
X-PUBLISHED-TTL:PT1H
BEGIN:VTIMEZONE
TZID:America/Boise
BEGIN:DAYLIGHT
TZOFFSETFROM:-0700
TZOFFSETTO:-0600
TZNAME:MDT
DTSTART:20240310T090000
END:DAYLIGHT
BEGIN:STANDARD
TZOFFSETFROM:-0600
TZOFFSETTO:-0700
TZNAME:MST
DTSTART:20241103T080000
END:STANDARD
BEGIN:DAYLIGHT
TZOFFSETFROM:-0700
TZOFFSETTO:-0600
TZNAME:MDT
DTSTART:20250309T090000
END:DAYLIGHT
BEGIN:STANDARD
TZOFFSETFROM:-0600
TZOFFSETTO:-0700
TZNAME:MST
DTSTART:20251102T080000
END:STANDARD
BEGIN:DAYLIGHT
TZOFFSETFROM:-0700
TZOFFSETTO:-0600
TZNAME:MDT
DTSTART:20260308T090000
END:DAYLIGHT
BEGIN:STANDARD
TZOFFSETFROM:-0600
TZOFFSETTO:-0700
TZNAME:MST
DTSTART:20261101T080000
END:STANDARD
END:VTIMEZONE
BEGIN:VEVENT
DTSTART;TZID=America/Boise:20250506T183000
DTEND;TZID=America/Boise:20250506T200000
DTSTAMP:20260419T182729
CREATED:20250128T061756Z
LAST-MODIFIED:20250503T044652Z
UID:4584-1746556200-1746561600@silversageporsche.com
SUMMARY:Board Meeting
DESCRIPTION:The meeting will be held at Porsche Boise\, 7607 W Gratz Dr (map). Appetizers and beverages will be available at 6:00 pm and the meeting will start at 6:30. The meetings are typically completed by 8:00 pm. \n\n\n\nCharity presentations tonight. \n\n\n\nAgenda
URL:https://silversageporsche.com/event/board-meeting-4/
LOCATION:Porsche Boise\, 7607 W. Gratz Dr\, Boise\, ID\, 83716\, United States
END:VEVENT
BEGIN:VEVENT
DTSTART;TZID=America/Boise:20250504T130000
DTEND;TZID=America/Boise:20250504T150000
DTSTAMP:20260419T182729
CREATED:20250306T052636Z
LAST-MODIFIED:20250316T202342Z
UID:4842-1746363600-1746370800@silversageporsche.com
SUMMARY:Adopt-a-Highway Cleanup
DESCRIPTION:At Silver Sage Porsche Club\, we believe in horsepower with a purpose. For nearly 60 years\,we’ve revved up not just our engines but our commitment to the community—raising over$300\,000 for local causes. Now\, it’s time to roll up our sleeves\, grab some gloves\, and hit theroad for our next big impact: the Silver Sage Adopt-a-Highway Cleanup! \n\n\n\nJoin us on Sunday\, May 4\, 2025 as we take on a stretch of Highway 55 near Boise to keep ourregion’s roads as pristine as our Porsches. This family-friendly event is your chance to: \n\n\n\n\nShowcase Our Spirit: Let every passing car see Porsche owners giving back in style.\n\n\n\nMake a Difference: Help beautify southern Idaho\, one mile at a time.\n\n\n\nBond with Fellow Enthusiasts: Enjoy a morning outdoors with the Silver Sage crew—followed by pizza and beverages at Spring Creek Brewing Co.\n\n\n\nWhat to Bring: Enthusiasm!\, boots\, and gloves. We’ll provide vests\, and cleanup gear.\n\n\n\n\nAfterward\, stick around for a casual get together at Spring Creek Brewing Company with pizza\,a beverage\, and maybe a few Porsche tales. It’s low-key\, high-impact\, and quintessentially SilverSage. \n\n\n\nRSVP by April 15 to Kevin MitchellSpots are limited\, so don’t wait!Drive the passion. Serve the community. See you there! \n\n\n\nSilver Sage Adopt-A-Highway Cleanup Info
URL:https://silversageporsche.com/event/adopt-a-highway-cleanup/
LOCATION:Horseshoe Bend City Park\, 112 Ada St.\, Horseshoe Bend\, Idaho\, 83629
ORGANIZER;CN="Kevin Mitchell":MAILTO:VicePresident@silversageporsche.com
END:VEVENT
BEGIN:VEVENT
DTSTART;TZID=America/Boise:20250503T130000
DTEND;TZID=America/Boise:20250504T170000
DTSTAMP:20260419T182729
CREATED:20250316T195651Z
LAST-MODIFIED:20250503T043039Z
UID:4896-1746277200-1746378000@silversageporsche.com
SUMMARY:Overnight Tour - Lazy Bear Ranch Getaway - Cancelled
DESCRIPTION:Lazy Bear Ranch Getaway has been canceled as we didn’t meet our minimum participation requirements. Stay tuned for a possible replacement trip!
URL:https://silversageporsche.com/event/overnight-tour-lazy-bear-ranch-getaway/
LOCATION:Lazy Bear Ranch\, 612 Unity Lane\, Weiser\, Idaho\, 83672
ORGANIZER;CN="Diana Molenaar":MAILTO:tours@silversageporsche.com
END:VEVENT
BEGIN:VEVENT
DTSTART;TZID=America/Boise:20250503T080000
DTEND;TZID=America/Boise:20250503T120000
DTSTAMP:20260419T182729
CREATED:20250128T061433Z
LAST-MODIFIED:20250128T061433Z
UID:4582-1746259200-1746273600@silversageporsche.com
SUMMARY:Coffee & Porsches
DESCRIPTION:Mark your calendar for the 1st Saturday of each month\, April through October\, for amorning tour. Meet at Porsche of Boise\, 7607 W. Gratz Drive\, Boise (map)\, at 8:00 a.m.for coffee and snacks. There will be a brief drivers meeting and cars depart at 8:30 fora tour which typically returns to Boise by noon (so you can get your Saturday choresdone in the afternoon!).No RSVP required – just show up for the drive!If you have access to an FRS/GMRS 2-way radio you can bring\, please do and set tochannel “5.1” or “5.01” to stay in the communications loop during the drive. If youdon’t have a radio you will still enjoy the drive.If you are bring along someone under the age of 18\, please print and fill out this formahead of time and bring it with you (one per minor). This will be save you time Saturdaymorning.
URL:https://silversageporsche.com/event/coffee-porsches-2/
LOCATION:Porsche Boise\, 7607 W. Gratz Dr\, Boise\, ID\, 83716\, United States
ORGANIZER;CN="Doug Ooley":MAILTO:ooleydd@gmail.com
END:VEVENT
BEGIN:VEVENT
DTSTART;TZID=America/Boise:20250426T073000
DTEND;TZID=America/Boise:20250427T170000
DTSTAMP:20260419T182729
CREATED:20241218T164231Z
LAST-MODIFIED:20250414T025230Z
UID:4455-1745652600-1745773200@silversageporsche.com
SUMMARY:Spring BrezelCross (Autocross)
DESCRIPTION:Spring BrezelCross\, April 26 & 27\, at Motorplex in Emmett is just two weeks away and we still have some slots open on Saturday and Sunday. This autocross event is “novice friendly”!! All Porsche models are welcome. \n\n\n\nAll Porsches and all experience level drivers are welcome! \n\n\n\nHELLO BREZELCROSS ALUMS & AUTOCROSSERS! (AND IF YOU’VE NEVER AUTOCROSSED- YOU ARE WELCOME TO JOIN US\, INSTRUCTORS WILL BE AVAILABLE!).Join Silver Sage Porsche Club of America for our first BrezelCross of 2025 the weekend of April 27-28 at Motorplex at the Mill in Emmett\, with upgrades.  BrezelCross is refreshingly different than traditional ‘parking lot cone driving’ as the venue is a proper oval with fresh asphalt and infield driving options and relatively few cones.  Thus the unique name\, of German origin of course! \n\n\n\nWhat is BrezelCross?  Autocross with a twist!  What is BrezelCross.pdf \n\n\n\nClick the link for a course preview:  Click HERE to see a BrezelCross lap on the Silver Sage website!   \n\n\n\nComing back this year: \n\n\n\n\nMore timed runs\n\n\n\nLe Mans style grid\n\n\n\nTrack tower timing display\, visible across the entire venue\n\n\n\nALL Porsche models are welcome!  (Note to SCCA drivers\, “Cars must meet SCCA rollover protection criteria”).\n\n\n\nCamping on site\n\n\n\n\nLUNCH each day is provided by Roadhouse at the Mill at the Motorplex and is included in the registration fee as required by Motorplex.  Lunch options are Cobb Salad\, Vegetable Sandwich\, Street Tacos (chicken\, pork\, steak or combo) and Pulled Pork Sandwich. Guests/spectators can purchase Street Tacos a la carte during lunch. \n\n\n\nCAMPERS:  Motorplex allows camping on site for $35 per night.  There is no pre-registration required as there’s lots of room and you can pay with cash or card directly to Motorsports personnel upon arrival.  Note- this is dry camping\, no hookups. \n\n\n\nYou can read all about Autocross and our Driver’s Education (DE) activities by visiting the region website PCA DE link. \n\n\n\nPCA Autocross rules can be found here: PCA AX rules 2025
URL:https://silversageporsche.com/event/brezlecross-1/
LOCATION:Motorplex at the Mill\, 510 W Main St\, Emmett\, Idaho\, 83617\, United States
END:VEVENT
BEGIN:VEVENT
DTSTART;TZID=America/Boise:20250419T080000
DTEND;TZID=America/Boise:20250419T120000
DTSTAMP:20260419T182729
CREATED:20250330T052318Z
LAST-MODIFIED:20250330T055141Z
UID:5020-1745049600-1745064000@silversageporsche.com
SUMMARY:Breakfast Club
DESCRIPTION:A morning drive that ends with breakfast. Limited to 20 cars.
URL:https://silversageporsche.com/event/breakfast-club/
LOCATION:Meet at Starbucks\, 1480 W Chinden Blvd\, Meridian\, 83646
END:VEVENT
END:VCALENDAR