BEGIN:VCALENDAR
VERSION:2.0
PRODID:-//Silver Sage Porsche Club - ECPv6.15.20//NONSGML v1.0//EN
CALSCALE:GREGORIAN
METHOD:PUBLISH
X-WR-CALNAME:Silver Sage Porsche Club
X-ORIGINAL-URL:https://silversageporsche.com
X-WR-CALDESC:Events for Silver Sage Porsche Club
REFRESH-INTERVAL;VALUE=DURATION:PT1H
X-Robots-Tag:noindex
X-PUBLISHED-TTL:PT1H
BEGIN:VTIMEZONE
TZID:America/Boise
BEGIN:DAYLIGHT
TZOFFSETFROM:-0700
TZOFFSETTO:-0600
TZNAME:MDT
DTSTART:20250309T090000
END:DAYLIGHT
BEGIN:STANDARD
TZOFFSETFROM:-0600
TZOFFSETTO:-0700
TZNAME:MST
DTSTART:20251102T080000
END:STANDARD
BEGIN:DAYLIGHT
TZOFFSETFROM:-0700
TZOFFSETTO:-0600
TZNAME:MDT
DTSTART:20260308T090000
END:DAYLIGHT
BEGIN:STANDARD
TZOFFSETFROM:-0600
TZOFFSETTO:-0700
TZNAME:MST
DTSTART:20261101T080000
END:STANDARD
BEGIN:DAYLIGHT
TZOFFSETFROM:-0700
TZOFFSETTO:-0600
TZNAME:MDT
DTSTART:20270314T090000
END:DAYLIGHT
BEGIN:STANDARD
TZOFFSETFROM:-0600
TZOFFSETTO:-0700
TZNAME:MST
DTSTART:20271107T080000
END:STANDARD
END:VTIMEZONE
BEGIN:VEVENT
DTSTART;TZID=America/Boise:20260707T180000
DTEND;TZID=America/Boise:20260707T200000
DTSTAMP:20260419T052922
CREATED:20251117T041420Z
LAST-MODIFIED:20251117T041421Z
UID:5667-1783447200-1783454400@silversageporsche.com
SUMMARY:Board Meeting
DESCRIPTION:The meeting will be held at Porsche Boise\, 7607 W Gratz Dr (map). Appetizers and beverages will be available at 6:00 pm and the meeting will start at 6:30. The meetings are typically completed by 8:00 pm.
URL:https://silversageporsche.com/event/board-meeting-19/
LOCATION:Porsche Boise\, 7607 W. Gratz Dr\, Boise\, ID\, 83716\, United States
END:VEVENT
BEGIN:VEVENT
DTSTART;TZID=America/Boise:20260711T080000
DTEND;TZID=America/Boise:20260711T120000
DTSTAMP:20260419T052922
CREATED:20251117T043208Z
LAST-MODIFIED:20260315T045320Z
UID:5691-1783756800-1783771200@silversageporsche.com
SUMMARY:Coffee and Porsches
DESCRIPTION:Mark your calendar for the 1st Saturday of each month\, April through October\, for amorning tour. Meet at Porsche of Boise\, 7607 W. Gratz Drive\, Boise (map)\, at 8:00 a.m.for coffee and snacks. There will be a brief drivers meeting and cars depart at 8:30 fora tour which typically returns to Boise by noon (so you can get your Saturday choresdone in the afternoon!).For 2026\, there’s a 35 car limit – registration is required.If you have access to an FRS/GMRS 2-way radio you can bring\, please do and set tochannel “5.1” or “5.01” to stay in the communications loop during the drive. If youdon’t have a radio you will still enjoy the drive.If you are bring along someone under the age of 18\, please print and fill out this formahead of time and bring it with you (one per minor). This will be save you time Saturdaymorning.
URL:https://silversageporsche.com/event/coffee-and-porsches-4/
LOCATION:Porsche Boise\, 7607 W. Gratz Dr\, Boise\, ID\, 83716\, United States
ORGANIZER;CN="Bob Kunz":MAILTO:autocross@silversageporsche.com
END:VEVENT
BEGIN:VEVENT
DTSTART;TZID=America/Boise:20260711T180000
DTEND;TZID=America/Boise:20260711T210000
DTSTAMP:20260419T052922
CREATED:20251117T050301Z
LAST-MODIFIED:20260407T022432Z
UID:5713-1783792800-1783803600@silversageporsche.com
SUMMARY:SSPCA 60th Anniversary Celebration
DESCRIPTION:Silver Sage is celebrating its 60th Anniversary. Come Celebrate with Us! Mark your calendars\, this is an event you won’t want to miss. Registration closer to the festivities. \n\n\n\nDetails to come.
URL:https://silversageporsche.com/event/sspca-60th-anniversary-celebration/
LOCATION:The Club at Spurwing\, 6800 Spurwing Wy N\, Meridian\, Idaho\, 83646
ORGANIZER;CN="Vicki Pentecost":MAILTO:vicki.pentecost@gmail.com
END:VEVENT
BEGIN:VEVENT
DTSTART;TZID=America/Boise:20260719T080000
DTEND;TZID=America/Boise:20260722T170000
DTSTAMP:20260419T052922
CREATED:20251117T050423Z
LAST-MODIFIED:20260414T022722Z
UID:5719-1784448000-1784739600@silversageporsche.com
SUMMARY:Bend\, Oregon Tour 2026
DESCRIPTION:This tour will be a run to bend Oregon. Our destination is the Campfire Inn 721 NE 3 rd St in Bend.I’m told it’s a unique kind of funky place – but they returned my pone call and remember thegroup (GOOD JOB PRIOR GROUP!) Their phone number is 541-382-1515 or click on the linkbelow to make your reservations:Campfire Hotel Reservations – SILVERSAGE26This link should take you right to our dates of our stay and provide the discounted rates. \n\n\n\nJuly 19 – Meet for a drivers meeting in the Home Depot Eagle parking lot at 8:00 am for an 8:30departure (or sooner). Please see Diana to sign your drivers waiver\, we’ll have a short driversmeeting and be off. Full tank of gas\, sack lunch\, and radios set to 5.1 is what you will need tobring. We will stop for a break in Nyssa at the M&W Express Chevron\, Lunch at Clyde HollidayState Park\, ending up at the Campfire Hotel. Please bring your own drinks and light snacks anddinner on your own.July 20\, 21 – Meet in the morning around 9:00 – routes to be determined Based on Chip sealingand will be sent out a little later. Right now\, I do have the Cascade lakes Scenic Tour\, CrookedRiver Canyon Tour and the McKenzie Scenic Drive instructions\, when you RSVP with yourinformation\, please let me know if any of these sound good\, or you have other ideas –suggestions are welcome!July 22 – Go home at your leisure\, your choice of routes\, well OK\, Highway 20/26.
URL:https://silversageporsche.com/event/overnight-tour-3/
LOCATION:Campfire Hotel\, 721 NE 3rd Street\, Bend\, Oregon\, 97701\, United States
ORGANIZER;CN="Diana Molenaar":MAILTO:tours@silversageporsche.com
END:VEVENT
END:VCALENDAR